BEGIN:VCALENDAR
VERSION:2.0
PRODID:-//Squarespace Inc/Squarespace 6//v6//EN
BEGIN:VEVENT
UID:5b7118d903ce64d11b850a90@squarespace.com
DTSTAMP:20180813T053812Z
DTSTART:20181004T010000Z
DTEND:20181004T070000Z
SUMMARY:KAHPF Meeting - Fitzroy Crossing 
GEO:-18.19172;125.562713
LOCATION:Nindilingarri Cultural Health Service\, 52 Fallon Road\, Fitzroy C
 rossing\, WA\, 6765\, Australia
END:VEVENT
END:VCALENDAR
