BEGIN:VCALENDAR
VERSION:2.0
PRODID:-//Squarespace Inc/Squarespace 6//v6//EN
BEGIN:VEVENT
UID:5b71196a4d7a9c3255939f7e@squarespace.com
DTSTAMP:20180813T053949Z
DTSTART:20181206T010000Z
DTEND:20181206T070000Z
SUMMARY:KAHPF Meeting - Broome 
GEO:-17.955195;122.240329
LOCATION:Kimberley Aboriginal Medical Services Ltd\, 27 Napier Terrace\, Br
 oome\, WA\, 6725\, Australia
END:VEVENT
END:VCALENDAR
